BEGIN:VCALENDAR
PRODID:-//AT Content Types//AT Event//EN
VERSION:1.0
BEGIN:VEVENT
DTSTART:20130620T163000Z
DTEND:20130620T183000Z
DCREATED:20121221T113504Z
UID:ATEvent-e1bfbed344f35f09db3333461e46927d
SEQUENCE:0
LAST-MODIFIED:20130313T131914Z
SUMMARY:Being Built Together final report meeting
DESCRIPTION:Final report meeting for a two year project investigating the demographics and ecclesiology of new black majority churches in the London Borough of Southwark
LOCATION:Southwark Cathedral, London, SE1
PRIORITY:3
TRANSP:0
END:VEVENT


END:VCALENDAR
