BEGIN:VCALENDAR
PRODID:-//AT Content Types//AT Event//EN
VERSION:2.0

BEGIN:VEVENT
DTSTAMP:20260421T103308Z
CREATED:20081201T181319Z
UID:ATEvent-3ef62a7ba7df1c4be6749a29e8af9d4f
SEQUENCE:0
LAST-MODIFIED:20081230T185558Z
SUMMARY:Seminar Transnational African Pentecostalism
DTSTART:20081209T081500Z
DTEND:20081209T123000Z
DESCRIPTION:Invitation Hollenweger Center Amsterdam 
Seminar Transnational African Pentecostalism

LOCATION:VU University Amsterdam 
CATEGORIES:Symposium
CLASS:PUBLIC
PRIORITY:3
TRANSP:OPAQUE
END:VEVENT


END:VCALENDAR
