BEGIN:VCALENDAR
PRODID:-//AT Content Types//AT Event//EN
VERSION:2.0

BEGIN:VEVENT
DTSTAMP:20260421T083537Z
CREATED:20140201T173924Z
UID:ATEvent-a643351b6d96a548fe423e6d5d704867
SEQUENCE:0
LAST-MODIFIED:20160727T225650Z
SUMMARY:9th GloPent Conference: Pentecostalism and Its Encounters with Other Religions
DTSTART:20160610T100000Z
DTEND:20160611T150000Z
DESCRIPTION:The ninth international and interdisciplinary conference of the European Research Network on Global Pentecostalism (GloPent) will be held 10–11 June 2016 at the University of Uppsala, Sweden. 
LOCATION:University of Uppsala, Sweden
CATEGORIES:Conference
CLASS:PUBLIC
PRIORITY:3
TRANSP:OPAQUE
END:VEVENT


END:VCALENDAR
