BEGIN:VCALENDAR
PRODID:-//AT Content Types//AT Event//EN
VERSION:1.0
BEGIN:VEVENT
DTSTART:20200214T090000Z
DTEND:20200215T143000Z
DCREATED:20170729T195131Z
UID:ATEvent-35c2ebd7f1cc9e054c040b6876d721da
SEQUENCE:0
LAST-MODIFIED:20200115T110448Z
SUMMARY:11th GloPent Conference: Pentecostal Strategies of Public Engagement 
DESCRIPTION:Die elfte Tagung des European Research Network on Global Pentecostalism findet am 14. und 15. Februar an der Universität Basel statt. Das Tagungsthema ist "Pentecostal Strategies of Public Engagement". 
Glopent ist die größte interdisziplinäre Konferenz zu aktuellen Forschungen der Pfingstbewegung in Europa.
LOCATION:Universität Basel
PRIORITY:3
TRANSP:0
END:VEVENT


END:VCALENDAR
