BEGIN:VCALENDAR
PRODID:-//AT Content Types//AT Event//EN
VERSION:1.0
BEGIN:VEVENT
DTSTART:20190904T124500Z
DTEND:20190904T134500Z
DCREATED:20190827T120710Z
UID:ATEvent-83044d2330597e5a389568df90d1edf2
SEQUENCE:0
LAST-MODIFIED:20190827T121233Z
SUMMARY:Book-Panel zu Giovanni Maltese, Pentekostalismus, Politik und Gesellschaft in den Philippinen (Ergon, 2017)
DESCRIPTION:„Author Meets Critics“ Book-Panel zu Giovanni Maltese, Pentekostalismus, Politik und Gesellschaft in den Philippinen (Ergon, RiG 42, 2017) auf der 33. Jahrstagung der Deutschen Vereinigung für Religionswissenschaft 2019: "Konzeptualisierungen von Religion"
LOCATION:Hannover
PRIORITY:3
TRANSP:0
END:VEVENT


END:VCALENDAR
