BEGIN:VCALENDAR
PRODID:-//AT Content Types//AT Event//EN
VERSION:1.0
BEGIN:VEVENT
DTSTART:20180531T070000Z
DTEND:20180601T160000Z
DCREATED:20180409T092754Z
UID:ATEvent-668a1f4bb066b9e42e363ce9a3f1b93d
SEQUENCE:0
LAST-MODIFIED:20180409T092816Z
SUMMARY:Konferenz: "Religious Revivals and their Effects" in Amsterdam
DESCRIPTION:Ankündigung der internationalen Konferenz "Religious Revivals and their Effects: Perceptions, Media and Networks in the Modern World" vom 31. Mai bis 1. Juni am Amsterdam Centre for Religious History.
LOCATION:Amsterdam
PRIORITY:3
TRANSP:0
END:VEVENT


END:VCALENDAR
